BEGIN:VCALENDAR
VERSION:2.0
PRODID:-//GreenTee Country Club Westwood Plateau - ECPv6.15.13.1//NONSGML v1.0//EN
CALSCALE:GREGORIAN
METHOD:PUBLISH
X-WR-CALNAME:GreenTee Country Club Westwood Plateau
X-ORIGINAL-URL:https://www.gtccwestwoodplateau.com
X-WR-CALDESC:Events for GreenTee Country Club Westwood Plateau
REFRESH-INTERVAL;VALUE=DURATION:PT1H
X-Robots-Tag:noindex
X-PUBLISHED-TTL:PT1H
BEGIN:VTIMEZONE
TZID:America/Vancouver
BEGIN:DAYLIGHT
TZOFFSETFROM:-0800
TZOFFSETTO:-0700
TZNAME:PDT
DTSTART:20250309T100000
END:DAYLIGHT
BEGIN:STANDARD
TZOFFSETFROM:-0700
TZOFFSETTO:-0800
TZNAME:PST
DTSTART:20251102T090000
END:STANDARD
BEGIN:DAYLIGHT
TZOFFSETFROM:-0800
TZOFFSETTO:-0700
TZNAME:PDT
DTSTART:20260308T100000
END:DAYLIGHT
BEGIN:STANDARD
TZOFFSETFROM:-0700
TZOFFSETTO:-0800
TZNAME:PST
DTSTART:20261101T090000
END:STANDARD
BEGIN:DAYLIGHT
TZOFFSETFROM:-0800
TZOFFSETTO:-0700
TZNAME:PDT
DTSTART:20270314T100000
END:DAYLIGHT
BEGIN:STANDARD
TZOFFSETFROM:-0700
TZOFFSETTO:-0800
TZNAME:PST
DTSTART:20271107T090000
END:STANDARD
END:VTIMEZONE
BEGIN:VEVENT
DTSTART;TZID=America/Vancouver:20260302T180000
DTEND;TZID=America/Vancouver:20260302T200000
DTSTAMP:20260419T050923
CREATED:20250926T205547Z
LAST-MODIFIED:20250926T205547Z
UID:31730-1772474400-1772481600@www.gtccwestwoodplateau.com
SUMMARY:Trivia Night
DESCRIPTION:
URL:https://www.gtccwestwoodplateau.com/jess-events/trivia-night-030226/
LOCATION:Jess’ Sky\, 3251 Plateau Blvd\, Coquitlam\, BC\, V3E 3B8\, Canada
CATEGORIES:Trivia
END:VEVENT
BEGIN:VEVENT
DTSTART;TZID=America/Vancouver:20260308T120000
DTEND;TZID=America/Vancouver:20260308T150000
DTSTAMP:20260419T050923
CREATED:20260115T152540Z
LAST-MODIFIED:20260306T223924Z
UID:33029-1772971200-1772982000@www.gtccwestwoodplateau.com
SUMMARY:Wedding Swap & Shop Market
DESCRIPTION:
URL:https://www.gtccwestwoodplateau.com/jess-events/wedding-swap-shop-market/
LOCATION:BC
CATEGORIES:General
END:VEVENT
BEGIN:VEVENT
DTSTART;TZID=America/Vancouver:20260311T180000
DTEND;TZID=America/Vancouver:20260311T200000
DTSTAMP:20260419T050923
CREATED:20250919T182908Z
LAST-MODIFIED:20250919T212040Z
UID:31601-1773252000-1773259200@www.gtccwestwoodplateau.com
SUMMARY:Paint Nite
DESCRIPTION:https://www.paintnite.com/ca/bc/port-coquitlam/events/spring-blossoms-tickets-10358181
URL:https://www.gtccwestwoodplateau.com/jess-events/paint-nite-031126/
LOCATION:Jess’ Sky\, 3251 Plateau Blvd\, Coquitlam\, BC\, V3E 3B8\, Canada
CATEGORIES:Paint Nite
END:VEVENT
BEGIN:VEVENT
DTSTART;TZID=America/Vancouver:20260317T190000
DTEND;TZID=America/Vancouver:20260317T220000
DTSTAMP:20260419T050923
CREATED:20250919T181715Z
LAST-MODIFIED:20250919T181715Z
UID:31579-1773774000-1773784800@www.gtccwestwoodplateau.com
SUMMARY:[NHL] Vs. Florida Panthers at 7:00 PM
DESCRIPTION:
URL:https://www.gtccwestwoodplateau.com/jess-events/nhl-vs-florida-panthers-at-700-pm/
LOCATION:Jess’ Sky\, 3251 Plateau Blvd\, Coquitlam\, BC\, V3E 3B8\, Canada
CATEGORIES:NHL
END:VEVENT
END:VCALENDAR