BEGIN:VCALENDAR
VERSION:2.0
PRODID:-//GreenTee Country Club Westwood Plateau - ECPv6.15.13.1//NONSGML v1.0//EN
CALSCALE:GREGORIAN
METHOD:PUBLISH
X-WR-CALNAME:GreenTee Country Club Westwood Plateau
X-ORIGINAL-URL:https://www.gtccwestwoodplateau.com
X-WR-CALDESC:Events for GreenTee Country Club Westwood Plateau
REFRESH-INTERVAL;VALUE=DURATION:PT1H
X-Robots-Tag:noindex
X-PUBLISHED-TTL:PT1H
BEGIN:VTIMEZONE
TZID:America/Vancouver
BEGIN:DAYLIGHT
TZOFFSETFROM:-0800
TZOFFSETTO:-0700
TZNAME:PDT
DTSTART:20240310T100000
END:DAYLIGHT
BEGIN:STANDARD
TZOFFSETFROM:-0700
TZOFFSETTO:-0800
TZNAME:PST
DTSTART:20241103T090000
END:STANDARD
BEGIN:DAYLIGHT
TZOFFSETFROM:-0800
TZOFFSETTO:-0700
TZNAME:PDT
DTSTART:20250309T100000
END:DAYLIGHT
BEGIN:STANDARD
TZOFFSETFROM:-0700
TZOFFSETTO:-0800
TZNAME:PST
DTSTART:20251102T090000
END:STANDARD
BEGIN:DAYLIGHT
TZOFFSETFROM:-0800
TZOFFSETTO:-0700
TZNAME:PDT
DTSTART:20260308T100000
END:DAYLIGHT
BEGIN:STANDARD
TZOFFSETFROM:-0700
TZOFFSETTO:-0800
TZNAME:PST
DTSTART:20261101T090000
END:STANDARD
END:VTIMEZONE
BEGIN:VEVENT
DTSTART;VALUE=DATE:20251012
DTEND;VALUE=DATE:20251013
DTSTAMP:20260419T165706
CREATED:20251001T164453Z
LAST-MODIFIED:20251001T164453Z
UID:31849-1760227200-1760313599@www.gtccwestwoodplateau.com
SUMMARY:NFL Sundays and All Day Brunch
DESCRIPTION:
URL:https://www.gtccwestwoodplateau.com/jess-events/sunday-101225/
LOCATION:BC
CATEGORIES:NFL
END:VEVENT
BEGIN:VEVENT
DTSTART;TZID=America/Vancouver:20251009T190000
DTEND;TZID=America/Vancouver:20251009T220000
DTSTAMP:20260419T165706
CREATED:20250919T181111Z
LAST-MODIFIED:20250919T181111Z
UID:31561-1760036400-1760047200@www.gtccwestwoodplateau.com
SUMMARY:[NHL] Vs. Calgary Flames at 7:00PM
DESCRIPTION:
URL:https://www.gtccwestwoodplateau.com/jess-events/nhl-vs-calgary-flames-at-700pm/
LOCATION:Jess’ Sky\, 3251 Plateau Blvd\, Coquitlam\, BC\, V3E 3B8\, Canada
CATEGORIES:NHL
END:VEVENT
BEGIN:VEVENT
DTSTART;TZID=America/Vancouver:20251006T180000
DTEND;TZID=America/Vancouver:20251006T200000
DTSTAMP:20260419T165706
CREATED:20250926T204858Z
LAST-MODIFIED:20250926T204858Z
UID:31712-1759773600-1759780800@www.gtccwestwoodplateau.com
SUMMARY:Trivia Night
DESCRIPTION:
URL:https://www.gtccwestwoodplateau.com/jess-events/trivia-night-100625/
LOCATION:Jess’ Sky\, 3251 Plateau Blvd\, Coquitlam\, BC\, V3E 3B8\, Canada
CATEGORIES:Trivia
END:VEVENT
END:VCALENDAR