BEGIN:VCALENDAR
VERSION:2.0
PRODID:-//GreenTee Country Club Westwood Plateau - ECPv6.15.13.1//NONSGML v1.0//EN
CALSCALE:GREGORIAN
METHOD:PUBLISH
X-ORIGINAL-URL:https://www.gtccwestwoodplateau.com
X-WR-CALDESC:Events for GreenTee Country Club Westwood Plateau
REFRESH-INTERVAL;VALUE=DURATION:PT1H
X-Robots-Tag:noindex
X-PUBLISHED-TTL:PT1H
BEGIN:VTIMEZONE
TZID:America/Vancouver
BEGIN:DAYLIGHT
TZOFFSETFROM:-0800
TZOFFSETTO:-0700
TZNAME:PDT
DTSTART:20250309T100000
END:DAYLIGHT
BEGIN:STANDARD
TZOFFSETFROM:-0700
TZOFFSETTO:-0800
TZNAME:PST
DTSTART:20251102T090000
END:STANDARD
BEGIN:DAYLIGHT
TZOFFSETFROM:-0800
TZOFFSETTO:-0700
TZNAME:PDT
DTSTART:20260308T100000
END:DAYLIGHT
BEGIN:STANDARD
TZOFFSETFROM:-0700
TZOFFSETTO:-0800
TZNAME:PST
DTSTART:20261101T090000
END:STANDARD
BEGIN:DAYLIGHT
TZOFFSETFROM:-0800
TZOFFSETTO:-0700
TZNAME:PDT
DTSTART:20270314T100000
END:DAYLIGHT
BEGIN:STANDARD
TZOFFSETFROM:-0700
TZOFFSETTO:-0800
TZNAME:PST
DTSTART:20271107T090000
END:STANDARD
END:VTIMEZONE
BEGIN:VEVENT
DTSTART;TZID=America/Vancouver:20261102T180000
DTEND;TZID=America/Vancouver:20261102T200000
DTSTAMP:20260419T124815
CREATED:20260319T171049Z
LAST-MODIFIED:20260319T171049Z
UID:33633-1793642400-1793649600@www.gtccwestwoodplateau.com
SUMMARY:Trivia Night
DESCRIPTION:
URL:https://www.gtccwestwoodplateau.com/jess-events/trivia-night-110226/
LOCATION:Jess’ Sky\, 3251 Plateau Blvd\, Coquitlam\, BC\, V3E 3B8\, Canada
CATEGORIES:Trivia
END:VEVENT
BEGIN:VEVENT
DTSTART;TZID=America/Vancouver:20261114T180000
DTEND;TZID=America/Vancouver:20261114T200000
DTSTAMP:20260419T124815
CREATED:20260319T172457Z
LAST-MODIFIED:20260319T172457Z
UID:33674-1794679200-1794686400@www.gtccwestwoodplateau.com
SUMMARY:Jazz Night - Featuring "Musical Breeze with Maria Solena"
DESCRIPTION:
URL:https://www.gtccwestwoodplateau.com/jess-events/jazz-night-111426/
LOCATION:Jess’ Sky\, 3251 Plateau Blvd\, Coquitlam\, BC\, V3E 3B8\, Canada
CATEGORIES:Live Music
END:VEVENT
BEGIN:VEVENT
DTSTART;TZID=America/Vancouver:20261207T180000
DTEND;TZID=America/Vancouver:20261207T200000
DTSTAMP:20260419T124815
CREATED:20260319T171122Z
LAST-MODIFIED:20260319T171122Z
UID:33636-1796666400-1796673600@www.gtccwestwoodplateau.com
SUMMARY:Trivia Night
DESCRIPTION:
URL:https://www.gtccwestwoodplateau.com/jess-events/trivia-night-120726/
LOCATION:Jess’ Sky\, 3251 Plateau Blvd\, Coquitlam\, BC\, V3E 3B8\, Canada
CATEGORIES:Trivia
END:VEVENT
END:VCALENDAR