BEGIN:VCALENDAR
VERSION:2.0
PRODID:-//GreenTee Country Club Westwood Plateau - ECPv6.15.13.1//NONSGML v1.0//EN
CALSCALE:GREGORIAN
METHOD:PUBLISH
X-WR-CALNAME:GreenTee Country Club Westwood Plateau
X-ORIGINAL-URL:https://www.gtccwestwoodplateau.com
X-WR-CALDESC:Events for GreenTee Country Club Westwood Plateau
REFRESH-INTERVAL;VALUE=DURATION:PT1H
X-Robots-Tag:noindex
X-PUBLISHED-TTL:PT1H
BEGIN:VTIMEZONE
TZID:America/Vancouver
BEGIN:DAYLIGHT
TZOFFSETFROM:-0800
TZOFFSETTO:-0700
TZNAME:PDT
DTSTART:20240310T100000
END:DAYLIGHT
BEGIN:STANDARD
TZOFFSETFROM:-0700
TZOFFSETTO:-0800
TZNAME:PST
DTSTART:20241103T090000
END:STANDARD
BEGIN:DAYLIGHT
TZOFFSETFROM:-0800
TZOFFSETTO:-0700
TZNAME:PDT
DTSTART:20250309T100000
END:DAYLIGHT
BEGIN:STANDARD
TZOFFSETFROM:-0700
TZOFFSETTO:-0800
TZNAME:PST
DTSTART:20251102T090000
END:STANDARD
BEGIN:DAYLIGHT
TZOFFSETFROM:-0800
TZOFFSETTO:-0700
TZNAME:PDT
DTSTART:20260308T100000
END:DAYLIGHT
BEGIN:STANDARD
TZOFFSETFROM:-0700
TZOFFSETTO:-0800
TZNAME:PST
DTSTART:20261101T090000
END:STANDARD
BEGIN:DAYLIGHT
TZOFFSETFROM:-0800
TZOFFSETTO:-0700
TZNAME:PDT
DTSTART:20270314T100000
END:DAYLIGHT
BEGIN:STANDARD
TZOFFSETFROM:-0700
TZOFFSETTO:-0800
TZNAME:PST
DTSTART:20271107T090000
END:STANDARD
END:VTIMEZONE
BEGIN:VEVENT
DTSTART;VALUE=DATE:20260111
DTEND;VALUE=DATE:20260112
DTSTAMP:20260419T121016
CREATED:20251001T165559Z
LAST-MODIFIED:20251001T165559Z
UID:31880-1768089600-1768175999@www.gtccwestwoodplateau.com
SUMMARY:NFL Sundays and All Day Brunch
DESCRIPTION:
URL:https://www.gtccwestwoodplateau.com/jess-events/sunday-011126/
LOCATION:Jess’ Sky\, 3251 Plateau Blvd\, Coquitlam\, BC\, V3E 3B8\, Canada
CATEGORIES:NFL
END:VEVENT
BEGIN:VEVENT
DTSTART;TZID=America/Vancouver:20260105T180000
DTEND;TZID=America/Vancouver:20260105T200000
DTSTAMP:20260419T121016
CREATED:20250926T205436Z
LAST-MODIFIED:20250926T205436Z
UID:31724-1767636000-1767643200@www.gtccwestwoodplateau.com
SUMMARY:Trivia Night
DESCRIPTION:
URL:https://www.gtccwestwoodplateau.com/jess-events/trivia-night-010526/
LOCATION:Jess’ Sky\, 3251 Plateau Blvd\, Coquitlam\, BC\, V3E 3B8\, Canada
CATEGORIES:Trivia
END:VEVENT
BEGIN:VEVENT
DTSTART;VALUE=DATE:20260104
DTEND;VALUE=DATE:20260105
DTSTAMP:20260419T121016
CREATED:20251001T165449Z
LAST-MODIFIED:20251001T165449Z
UID:31877-1767484800-1767571199@www.gtccwestwoodplateau.com
SUMMARY:NFL Sundays and All Day Brunch
DESCRIPTION:
URL:https://www.gtccwestwoodplateau.com/jess-events/sunday-010426/
LOCATION:Jess’ Sky\, 3251 Plateau Blvd\, Coquitlam\, BC\, V3E 3B8\, Canada
CATEGORIES:NFL
END:VEVENT
BEGIN:VEVENT
DTSTART;VALUE=DATE:20251228
DTEND;VALUE=DATE:20251229
DTSTAMP:20260419T121016
CREATED:20250919T174551Z
LAST-MODIFIED:20251001T163909Z
UID:31556-1766880000-1766966399@www.gtccwestwoodplateau.com
SUMMARY:NFL Sundays and All Day Brunch
DESCRIPTION:
URL:https://www.gtccwestwoodplateau.com/jess-events/sunday-122825/
LOCATION:Jess’ Sky\, 3251 Plateau Blvd\, Coquitlam\, BC\, V3E 3B8\, Canada
CATEGORIES:NFL
END:VEVENT
BEGIN:VEVENT
DTSTART;VALUE=DATE:20251221
DTEND;VALUE=DATE:20251222
DTSTAMP:20260419T121016
CREATED:20250919T174459Z
LAST-MODIFIED:20251001T163621Z
UID:31553-1766275200-1766361599@www.gtccwestwoodplateau.com
SUMMARY:NFL Sundays and All Day Brunch
DESCRIPTION:
URL:https://www.gtccwestwoodplateau.com/jess-events/sunday-122125/
LOCATION:Jess’ Sky\, 3251 Plateau Blvd\, Coquitlam\, BC\, V3E 3B8\, Canada
CATEGORIES:NFL
END:VEVENT
BEGIN:VEVENT
DTSTART;TZID=America/Vancouver:20251217T180000
DTEND;TZID=America/Vancouver:20251217T200000
DTSTAMP:20260419T121016
CREATED:20250919T182711Z
LAST-MODIFIED:20250919T211807Z
UID:31592-1765994400-1766001600@www.gtccwestwoodplateau.com
SUMMARY:Paint Nite
DESCRIPTION:https://www.paintnite.com/ca/bc/port-coquitlam/events/northern-night-lights-tickets-10358175
URL:https://www.gtccwestwoodplateau.com/jess-events/paint-nite-122725/
LOCATION:Jess’ Sky\, 3251 Plateau Blvd\, Coquitlam\, BC\, V3E 3B8\, Canada
CATEGORIES:Paint Nite
END:VEVENT
BEGIN:VEVENT
DTSTART;VALUE=DATE:20251214
DTEND;VALUE=DATE:20251215
DTSTAMP:20260419T121016
CREATED:20250919T174408Z
LAST-MODIFIED:20251001T163519Z
UID:31550-1765670400-1765756799@www.gtccwestwoodplateau.com
SUMMARY:NFL Sundays and All Day Brunch
DESCRIPTION:
URL:https://www.gtccwestwoodplateau.com/jess-events/sunday-121425/
LOCATION:Jess’ Sky\, 3251 Plateau Blvd\, Coquitlam\, BC\, V3E 3B8\, Canada
CATEGORIES:NFL
END:VEVENT
BEGIN:VEVENT
DTSTART;TZID=America/Vancouver:20251210T180000
DTEND;TZID=America/Vancouver:20251210T200000
DTSTAMP:20260419T121016
CREATED:20250919T184033Z
LAST-MODIFIED:20250919T184033Z
UID:31613-1765389600-1765396800@www.gtccwestwoodplateau.com
SUMMARY:Live Music (Dean Michael Smith)
DESCRIPTION:
URL:https://www.gtccwestwoodplateau.com/jess-events/live-music-121025/
LOCATION:Jess’ Sky\, 3251 Plateau Blvd\, Coquitlam\, BC\, V3E 3B8\, Canada
CATEGORIES:Live Music
END:VEVENT
BEGIN:VEVENT
DTSTART;TZID=America/Vancouver:20251209T190000
DTEND;TZID=America/Vancouver:20251209T210000
DTSTAMP:20260419T121016
CREATED:20251008T234545Z
LAST-MODIFIED:20251008T234545Z
UID:32033-1765306800-1765314000@www.gtccwestwoodplateau.com
SUMMARY:Chunky Knit Blanket Night
DESCRIPTION:https://www.paintnite.com/ca/bc/port-coquitlam/events/mixed-colour-chunky-blanket-tickets-10359383
URL:https://www.gtccwestwoodplateau.com/jess-events/chunky-knit-blanket-night-2/
LOCATION:Jess’ Sky\, 3251 Plateau Blvd\, Coquitlam\, BC\, V3E 3B8\, Canada
CATEGORIES:knit
END:VEVENT
BEGIN:VEVENT
DTSTART;VALUE=DATE:20251207
DTEND;VALUE=DATE:20251208
DTSTAMP:20260419T121016
CREATED:20250919T174326Z
LAST-MODIFIED:20251001T163454Z
UID:31547-1765065600-1765151999@www.gtccwestwoodplateau.com
SUMMARY:NFL Sundays and All Day Brunch
DESCRIPTION:
URL:https://www.gtccwestwoodplateau.com/jess-events/sunday-120725/
LOCATION:Jess’ Sky\, 3251 Plateau Blvd\, Coquitlam\, BC\, V3E 3B8\, Canada
CATEGORIES:NFL
END:VEVENT
BEGIN:VEVENT
DTSTART;TZID=America/Vancouver:20251201T180000
DTEND;TZID=America/Vancouver:20251201T200000
DTSTAMP:20260419T121016
CREATED:20250926T205325Z
LAST-MODIFIED:20250926T205325Z
UID:31720-1764612000-1764619200@www.gtccwestwoodplateau.com
SUMMARY:Trivia Night
DESCRIPTION:
URL:https://www.gtccwestwoodplateau.com/jess-events/trivia-night-120125/
LOCATION:Jess’ Sky\, 3251 Plateau Blvd\, Coquitlam\, BC\, V3E 3B8\, Canada
CATEGORIES:Trivia
END:VEVENT
BEGIN:VEVENT
DTSTART;TZID=America/Vancouver:20251130T104500
DTEND;TZID=America/Vancouver:20251130T133000
DTSTAMP:20260419T121016
CREATED:20251113T001942Z
LAST-MODIFIED:20251113T002038Z
UID:32473-1764499500-1764509400@www.gtccwestwoodplateau.com
SUMMARY:Holiday Brunch Buffet
DESCRIPTION:Come celebrate the season with us while brunching on Chef Kalvin’s delicious buffet. \nAll the classic brunch options. \nSeatings are two hours from booking time beginning at 10:45 am and 11:30 am. \nPricing does not include gratuities and is subject to GST. \nGratuities may be paid\, should you be inclined\, day of in cash. \nCancellations/Refunds are subject to a $25.00 fee \nCancellations/Refunds will not be taken after Monday November 17\, 2025. Bookings close end of day Monday November 17\, 2025. \nShould you be booking with another group or you need a high chair or booster seat please let us know in the comments. \nRegistration / Ticket Options :\n– Adult (13 & Above) – 10:45 am to 12:45 pm\n– Children (6 – 12) – 10:45 am to 12:45 pm\n– Children (5 and Under) – 10:45 am to 12:45 pm \n– Adult (13 & Above) – 11:30 am to 1:30 pm\n– Children (6 – 12) – 11:30 am to 1:30 pm\n– Children (5 and Under) – 11:30 am to 1:30 pm \nSanta\, a Snow Queen\, and a special snowman will be in attendance!
URL:https://www.gtccwestwoodplateau.com/jess-events/holiday-brunch-buffet/
LOCATION:Jess’ Sky\, 3251 Plateau Blvd\, Coquitlam\, BC\, V3E 3B8\, Canada
CATEGORIES:General
END:VEVENT
BEGIN:VEVENT
DTSTART;VALUE=DATE:20251130
DTEND;VALUE=DATE:20251201
DTSTAMP:20260419T121016
CREATED:20251001T165321Z
LAST-MODIFIED:20251001T165321Z
UID:31874-1764460800-1764547199@www.gtccwestwoodplateau.com
SUMMARY:NFL Sundays and All Day Brunch
DESCRIPTION:
URL:https://www.gtccwestwoodplateau.com/jess-events/sunday-113025/
LOCATION:Jess’ Sky\, 3251 Plateau Blvd\, Coquitlam\, BC\, V3E 3B8\, Canada
CATEGORIES:NFL
END:VEVENT
BEGIN:VEVENT
DTSTART;TZID=America/Vancouver:20251129T173000
DTEND;TZID=America/Vancouver:20251129T200000
DTSTAMP:20260419T121016
CREATED:20251113T002827Z
LAST-MODIFIED:20251113T002827Z
UID:32480-1764437400-1764446400@www.gtccwestwoodplateau.com
SUMMARY:Jazz Night with Maria Solena & Musical Breeze
DESCRIPTION:
URL:https://www.gtccwestwoodplateau.com/jess-events/jazz-night-with-maria-solena-musical-breeze/
LOCATION:Jess’ Sky\, 3251 Plateau Blvd\, Coquitlam\, BC\, V3E 3B8\, Canada
CATEGORIES:Live Music
END:VEVENT
BEGIN:VEVENT
DTSTART;TZID=America/Vancouver:20251125T180000
DTEND;TZID=America/Vancouver:20251125T200000
DTSTAMP:20260419T121016
CREATED:20250919T183109Z
LAST-MODIFIED:20250919T211656Z
UID:31604-1764093600-1764100800@www.gtccwestwoodplateau.com
SUMMARY:Chunky Knit Blanket Night
DESCRIPTION:https://www.paintnite.com/ca/bc/port-coquitlam/events/mixed-colour-chunky-blanket-tickets-10358179
URL:https://www.gtccwestwoodplateau.com/jess-events/chunky-knit-blanket-night/
LOCATION:Jess’ Sky\, 3251 Plateau Blvd\, Coquitlam\, BC\, V3E 3B8\, Canada
CATEGORIES:knit
END:VEVENT
BEGIN:VEVENT
DTSTART;VALUE=DATE:20251123
DTEND;VALUE=DATE:20251124
DTSTAMP:20260419T121016
CREATED:20251001T164814Z
LAST-MODIFIED:20251001T165254Z
UID:31861-1763856000-1763942399@www.gtccwestwoodplateau.com
SUMMARY:NFL Sundays and All Day Brunch
DESCRIPTION:
URL:https://www.gtccwestwoodplateau.com/jess-events/sunday-112325/
LOCATION:Jess’ Sky\, 3251 Plateau Blvd\, Coquitlam\, BC\, V3E 3B8\, Canada
CATEGORIES:NFL
END:VEVENT
BEGIN:VEVENT
DTSTART;TZID=America/Vancouver:20251122T100000
DTEND;TZID=America/Vancouver:20251122T140000
DTSTAMP:20260419T121016
CREATED:20251001T203003Z
LAST-MODIFIED:20251001T203003Z
UID:31709-1763805600-1763820000@www.gtccwestwoodplateau.com
SUMMARY:High Tea
DESCRIPTION:
URL:https://www.gtccwestwoodplateau.com/jess-events/high-tea/
LOCATION:Jess’ Sky\, 3251 Plateau Blvd\, Coquitlam\, BC\, V3E 3B8\, Canada
CATEGORIES:High Tea
END:VEVENT
BEGIN:VEVENT
DTSTART;TZID=America/Vancouver:20251119T180000
DTEND;TZID=America/Vancouver:20251119T200000
DTSTAMP:20260419T121016
CREATED:20250919T182555Z
LAST-MODIFIED:20250919T211529Z
UID:31588-1763575200-1763582400@www.gtccwestwoodplateau.com
SUMMARY:Paint Nite
DESCRIPTION:https://www.paintnite.com/ca/bc/port-coquitlam/events/misty-mountain-hop-tickets-10358174
URL:https://www.gtccwestwoodplateau.com/jess-events/paint-nite-111925/
LOCATION:Jess’ Sky\, 3251 Plateau Blvd\, Coquitlam\, BC\, V3E 3B8\, Canada
CATEGORIES:Paint Nite
END:VEVENT
BEGIN:VEVENT
DTSTART;VALUE=DATE:20251116
DTEND;VALUE=DATE:20251117
DTSTAMP:20260419T121016
CREATED:20251001T164736Z
LAST-MODIFIED:20251001T164736Z
UID:31858-1763251200-1763337599@www.gtccwestwoodplateau.com
SUMMARY:NFL Sundays and All Day Brunch
DESCRIPTION:
URL:https://www.gtccwestwoodplateau.com/jess-events/sunday-111625/
LOCATION:Jess’ Sky\, 3251 Plateau Blvd\, Coquitlam\, BC\, V3E 3B8\, Canada
CATEGORIES:NFL
END:VEVENT
BEGIN:VEVENT
DTSTART;TZID=America/Vancouver:20251112T180000
DTEND;TZID=America/Vancouver:20251112T200000
DTSTAMP:20260419T121016
CREATED:20250919T183949Z
LAST-MODIFIED:20250919T183949Z
UID:31610-1762970400-1762977600@www.gtccwestwoodplateau.com
SUMMARY:Live Music (Dean Michael Smith)
DESCRIPTION:
URL:https://www.gtccwestwoodplateau.com/jess-events/live-music-111225/
LOCATION:Jess’ Sky\, 3251 Plateau Blvd\, Coquitlam\, BC\, V3E 3B8\, Canada
CATEGORIES:Live Music
END:VEVENT
BEGIN:VEVENT
DTSTART;VALUE=DATE:20251109
DTEND;VALUE=DATE:20251110
DTSTAMP:20260419T121016
CREATED:20251001T164701Z
LAST-MODIFIED:20251001T164906Z
UID:31855-1762646400-1762732799@www.gtccwestwoodplateau.com
SUMMARY:NFL Sundays and All Day Brunch
DESCRIPTION:
URL:https://www.gtccwestwoodplateau.com/jess-events/sunday-110925/
LOCATION:Jess’ Sky\, 3251 Plateau Blvd\, Coquitlam\, BC\, V3E 3B8\, Canada
CATEGORIES:NFL
END:VEVENT
BEGIN:VEVENT
DTSTART;TZID=America/Vancouver:20251105T190000
DTEND;TZID=America/Vancouver:20251105T220000
DTSTAMP:20260419T121016
CREATED:20250919T181446Z
LAST-MODIFIED:20250919T181446Z
UID:31570-1762369200-1762380000@www.gtccwestwoodplateau.com
SUMMARY:[NHL] Vs. Chicago Blackhawks at 7:00 PM
DESCRIPTION:
URL:https://www.gtccwestwoodplateau.com/jess-events/nhl-vs-chicago-blackhawks-at-700-pm/
LOCATION:Jess’ Sky\, 3251 Plateau Blvd\, Coquitlam\, BC\, V3E 3B8\, Canada
CATEGORIES:NHL
END:VEVENT
BEGIN:VEVENT
DTSTART;TZID=America/Vancouver:20251103T180000
DTEND;TZID=America/Vancouver:20251103T200000
DTSTAMP:20260419T121016
CREATED:20250926T205058Z
LAST-MODIFIED:20250926T205400Z
UID:31717-1762192800-1762200000@www.gtccwestwoodplateau.com
SUMMARY:Trivia Night
DESCRIPTION:
URL:https://www.gtccwestwoodplateau.com/jess-events/trivia-night-110325/
LOCATION:Jess’ Sky\, 3251 Plateau Blvd\, Coquitlam\, BC\, V3E 3B8\, Canada
CATEGORIES:Trivia
END:VEVENT
BEGIN:VEVENT
DTSTART;VALUE=DATE:20251102
DTEND;VALUE=DATE:20251103
DTSTAMP:20260419T121016
CREATED:20250919T173944Z
LAST-MODIFIED:20251001T163419Z
UID:31544-1762041600-1762127999@www.gtccwestwoodplateau.com
SUMMARY:NFL Sundays and All Day Brunch
DESCRIPTION:
URL:https://www.gtccwestwoodplateau.com/jess-events/sunday-110225/
LOCATION:Jess’ Sky\, 3251 Plateau Blvd\, Coquitlam\, BC\, V3E 3B8\, Canada
CATEGORIES:NFL
END:VEVENT
BEGIN:VEVENT
DTSTART;TZID=America/Vancouver:20251101T100000
DTEND;TZID=America/Vancouver:20251101T140000
DTSTAMP:20260419T121016
CREATED:20251001T203003Z
LAST-MODIFIED:20251001T203003Z
UID:31706-1761991200-1762005600@www.gtccwestwoodplateau.com
SUMMARY:High Tea
DESCRIPTION:
URL:https://www.gtccwestwoodplateau.com/jess-events/high-tea-110125/
LOCATION:Jess’ Sky\, 3251 Plateau Blvd\, Coquitlam\, BC\, V3E 3B8\, Canada
CATEGORIES:High Tea
END:VEVENT
BEGIN:VEVENT
DTSTART;TZID=America/Vancouver:20251029T180000
DTEND;TZID=America/Vancouver:20251029T200000
DTSTAMP:20260419T121016
CREATED:20250919T183717Z
LAST-MODIFIED:20250919T183737Z
UID:31607-1761760800-1761768000@www.gtccwestwoodplateau.com
SUMMARY:Live Music (Dean Michael Smith)
DESCRIPTION:
URL:https://www.gtccwestwoodplateau.com/jess-events/live-music-102925/
LOCATION:Jess’ Sky\, 3251 Plateau Blvd\, Coquitlam\, BC\, V3E 3B8\, Canada
CATEGORIES:Live Music
END:VEVENT
BEGIN:VEVENT
DTSTART;TZID=America/Vancouver:20251028T190000
DTEND;TZID=America/Vancouver:20251028T220000
DTSTAMP:20260419T121016
CREATED:20250919T181347Z
LAST-MODIFIED:20250919T181347Z
UID:31567-1761678000-1761688800@www.gtccwestwoodplateau.com
SUMMARY:[NHL] Vs. Rangers at 7:00 PM
DESCRIPTION:
URL:https://www.gtccwestwoodplateau.com/jess-events/nhl-vs-rangers-at-700-pm/
LOCATION:Jess’ Sky\, 3251 Plateau Blvd\, Coquitlam\, BC\, V3E 3B8\, Canada
CATEGORIES:NHL
END:VEVENT
BEGIN:VEVENT
DTSTART;VALUE=DATE:20251026
DTEND;VALUE=DATE:20251027
DTSTAMP:20260419T121016
CREATED:20250919T173731Z
LAST-MODIFIED:20251001T163345Z
UID:31539-1761436800-1761523199@www.gtccwestwoodplateau.com
SUMMARY:NFL Sundays and All Day Brunch
DESCRIPTION:
URL:https://www.gtccwestwoodplateau.com/jess-events/sunday-102605/
LOCATION:Jess’ Sky\, 3251 Plateau Blvd\, Coquitlam\, BC\, V3E 3B8\, Canada
CATEGORIES:NFL
END:VEVENT
BEGIN:VEVENT
DTSTART;TZID=America/Vancouver:20251025T160000
DTEND;TZID=America/Vancouver:20251025T200000
DTSTAMP:20260419T121016
CREATED:20250919T181208Z
LAST-MODIFIED:20250919T181315Z
UID:31564-1761408000-1761422400@www.gtccwestwoodplateau.com
SUMMARY:[NHL] Vs. Montreal Canadiens at 4:00 PM
DESCRIPTION:
URL:https://www.gtccwestwoodplateau.com/jess-events/nhl-vs-montreal-canadiens-at-400-pm/
LOCATION:BC
CATEGORIES:NHL
END:VEVENT
BEGIN:VEVENT
DTSTART;TZID=America/Vancouver:20251022T180000
DTEND;TZID=America/Vancouver:20251022T200000
DTSTAMP:20260419T121016
CREATED:20250919T182443Z
LAST-MODIFIED:20250919T184804Z
UID:31585-1761156000-1761163200@www.gtccwestwoodplateau.com
SUMMARY:Paint Nite
DESCRIPTION:https://www.paintnite.com/ca/bc/port-coquitlam/events/fallicious-tickets-10358173
URL:https://www.gtccwestwoodplateau.com/jess-events/paint-nite-102225/
LOCATION:Jess’ Sky\, 3251 Plateau Blvd\, Coquitlam\, BC\, V3E 3B8\, Canada
CATEGORIES:Paint Nite
END:VEVENT
END:VCALENDAR