BEGIN:VCALENDAR
VERSION:2.0
PRODID:-//GreenTee Country Club Westwood Plateau - ECPv6.15.13.1//NONSGML v1.0//EN
CALSCALE:GREGORIAN
METHOD:PUBLISH
X-ORIGINAL-URL:https://www.gtccwestwoodplateau.com
X-WR-CALDESC:Events for GreenTee Country Club Westwood Plateau
REFRESH-INTERVAL;VALUE=DURATION:PT1H
X-Robots-Tag:noindex
X-PUBLISHED-TTL:PT1H
BEGIN:VTIMEZONE
TZID:America/Vancouver
BEGIN:DAYLIGHT
TZOFFSETFROM:-0800
TZOFFSETTO:-0700
TZNAME:PDT
DTSTART:20240310T100000
END:DAYLIGHT
BEGIN:STANDARD
TZOFFSETFROM:-0700
TZOFFSETTO:-0800
TZNAME:PST
DTSTART:20241103T090000
END:STANDARD
BEGIN:DAYLIGHT
TZOFFSETFROM:-0800
TZOFFSETTO:-0700
TZNAME:PDT
DTSTART:20250309T100000
END:DAYLIGHT
BEGIN:STANDARD
TZOFFSETFROM:-0700
TZOFFSETTO:-0800
TZNAME:PST
DTSTART:20251102T090000
END:STANDARD
BEGIN:DAYLIGHT
TZOFFSETFROM:-0800
TZOFFSETTO:-0700
TZNAME:PDT
DTSTART:20260308T100000
END:DAYLIGHT
BEGIN:STANDARD
TZOFFSETFROM:-0700
TZOFFSETTO:-0800
TZNAME:PST
DTSTART:20261101T090000
END:STANDARD
BEGIN:DAYLIGHT
TZOFFSETFROM:-0800
TZOFFSETTO:-0700
TZNAME:PDT
DTSTART:20270314T100000
END:DAYLIGHT
BEGIN:STANDARD
TZOFFSETFROM:-0700
TZOFFSETTO:-0800
TZNAME:PST
DTSTART:20271107T090000
END:STANDARD
END:VTIMEZONE
BEGIN:VEVENT
DTSTART;VALUE=DATE:20260201
DTEND;VALUE=DATE:20260202
DTSTAMP:20260419T125330
CREATED:20251001T165809Z
LAST-MODIFIED:20251001T165809Z
UID:31889-1769904000-1769990399@www.gtccwestwoodplateau.com
SUMMARY:NFL Sundays and All Day Brunch
DESCRIPTION:
URL:https://www.gtccwestwoodplateau.com/jess-events/sunday-020126/
LOCATION:Jess’ Sky\, 3251 Plateau Blvd\, Coquitlam\, BC\, V3E 3B8\, Canada
CATEGORIES:NFL
END:VEVENT
BEGIN:VEVENT
DTSTART;VALUE=DATE:20260125
DTEND;VALUE=DATE:20260126
DTSTAMP:20260419T125330
CREATED:20251001T165714Z
LAST-MODIFIED:20251001T165714Z
UID:31886-1769299200-1769385599@www.gtccwestwoodplateau.com
SUMMARY:NFL Sundays and All Day Brunch
DESCRIPTION:
URL:https://www.gtccwestwoodplateau.com/jess-events/sunday-012526/
LOCATION:Jess’ Sky\, 3251 Plateau Blvd\, Coquitlam\, BC\, V3E 3B8\, Canada
CATEGORIES:NFL
END:VEVENT
BEGIN:VEVENT
DTSTART;VALUE=DATE:20260118
DTEND;VALUE=DATE:20260119
DTSTAMP:20260419T125330
CREATED:20251001T165633Z
LAST-MODIFIED:20251001T165633Z
UID:31883-1768694400-1768780799@www.gtccwestwoodplateau.com
SUMMARY:NFL Sundays and All Day Brunch
DESCRIPTION:
URL:https://www.gtccwestwoodplateau.com/jess-events/sunday-011826/
LOCATION:Jess’ Sky\, 3251 Plateau Blvd\, Coquitlam\, BC\, V3E 3B8\, Canada
CATEGORIES:NFL
END:VEVENT
BEGIN:VEVENT
DTSTART;VALUE=DATE:20260111
DTEND;VALUE=DATE:20260112
DTSTAMP:20260419T125330
CREATED:20251001T165559Z
LAST-MODIFIED:20251001T165559Z
UID:31880-1768089600-1768175999@www.gtccwestwoodplateau.com
SUMMARY:NFL Sundays and All Day Brunch
DESCRIPTION:
URL:https://www.gtccwestwoodplateau.com/jess-events/sunday-011126/
LOCATION:Jess’ Sky\, 3251 Plateau Blvd\, Coquitlam\, BC\, V3E 3B8\, Canada
CATEGORIES:NFL
END:VEVENT
BEGIN:VEVENT
DTSTART;VALUE=DATE:20260104
DTEND;VALUE=DATE:20260105
DTSTAMP:20260419T125330
CREATED:20251001T165449Z
LAST-MODIFIED:20251001T165449Z
UID:31877-1767484800-1767571199@www.gtccwestwoodplateau.com
SUMMARY:NFL Sundays and All Day Brunch
DESCRIPTION:
URL:https://www.gtccwestwoodplateau.com/jess-events/sunday-010426/
LOCATION:Jess’ Sky\, 3251 Plateau Blvd\, Coquitlam\, BC\, V3E 3B8\, Canada
CATEGORIES:NFL
END:VEVENT
BEGIN:VEVENT
DTSTART;VALUE=DATE:20251228
DTEND;VALUE=DATE:20251229
DTSTAMP:20260419T125330
CREATED:20250919T174551Z
LAST-MODIFIED:20251001T163909Z
UID:31556-1766880000-1766966399@www.gtccwestwoodplateau.com
SUMMARY:NFL Sundays and All Day Brunch
DESCRIPTION:
URL:https://www.gtccwestwoodplateau.com/jess-events/sunday-122825/
LOCATION:Jess’ Sky\, 3251 Plateau Blvd\, Coquitlam\, BC\, V3E 3B8\, Canada
CATEGORIES:NFL
END:VEVENT
BEGIN:VEVENT
DTSTART;VALUE=DATE:20251221
DTEND;VALUE=DATE:20251222
DTSTAMP:20260419T125330
CREATED:20250919T174459Z
LAST-MODIFIED:20251001T163621Z
UID:31553-1766275200-1766361599@www.gtccwestwoodplateau.com
SUMMARY:NFL Sundays and All Day Brunch
DESCRIPTION:
URL:https://www.gtccwestwoodplateau.com/jess-events/sunday-122125/
LOCATION:Jess’ Sky\, 3251 Plateau Blvd\, Coquitlam\, BC\, V3E 3B8\, Canada
CATEGORIES:NFL
END:VEVENT
BEGIN:VEVENT
DTSTART;VALUE=DATE:20251214
DTEND;VALUE=DATE:20251215
DTSTAMP:20260419T125330
CREATED:20250919T174408Z
LAST-MODIFIED:20251001T163519Z
UID:31550-1765670400-1765756799@www.gtccwestwoodplateau.com
SUMMARY:NFL Sundays and All Day Brunch
DESCRIPTION:
URL:https://www.gtccwestwoodplateau.com/jess-events/sunday-121425/
LOCATION:Jess’ Sky\, 3251 Plateau Blvd\, Coquitlam\, BC\, V3E 3B8\, Canada
CATEGORIES:NFL
END:VEVENT
BEGIN:VEVENT
DTSTART;VALUE=DATE:20251207
DTEND;VALUE=DATE:20251208
DTSTAMP:20260419T125330
CREATED:20250919T174326Z
LAST-MODIFIED:20251001T163454Z
UID:31547-1765065600-1765151999@www.gtccwestwoodplateau.com
SUMMARY:NFL Sundays and All Day Brunch
DESCRIPTION:
URL:https://www.gtccwestwoodplateau.com/jess-events/sunday-120725/
LOCATION:Jess’ Sky\, 3251 Plateau Blvd\, Coquitlam\, BC\, V3E 3B8\, Canada
CATEGORIES:NFL
END:VEVENT
BEGIN:VEVENT
DTSTART;VALUE=DATE:20251130
DTEND;VALUE=DATE:20251201
DTSTAMP:20260419T125330
CREATED:20251001T165321Z
LAST-MODIFIED:20251001T165321Z
UID:31874-1764460800-1764547199@www.gtccwestwoodplateau.com
SUMMARY:NFL Sundays and All Day Brunch
DESCRIPTION:
URL:https://www.gtccwestwoodplateau.com/jess-events/sunday-113025/
LOCATION:Jess’ Sky\, 3251 Plateau Blvd\, Coquitlam\, BC\, V3E 3B8\, Canada
CATEGORIES:NFL
END:VEVENT
BEGIN:VEVENT
DTSTART;VALUE=DATE:20251123
DTEND;VALUE=DATE:20251124
DTSTAMP:20260419T125330
CREATED:20251001T164814Z
LAST-MODIFIED:20251001T165254Z
UID:31861-1763856000-1763942399@www.gtccwestwoodplateau.com
SUMMARY:NFL Sundays and All Day Brunch
DESCRIPTION:
URL:https://www.gtccwestwoodplateau.com/jess-events/sunday-112325/
LOCATION:Jess’ Sky\, 3251 Plateau Blvd\, Coquitlam\, BC\, V3E 3B8\, Canada
CATEGORIES:NFL
END:VEVENT
BEGIN:VEVENT
DTSTART;VALUE=DATE:20251116
DTEND;VALUE=DATE:20251117
DTSTAMP:20260419T125330
CREATED:20251001T164736Z
LAST-MODIFIED:20251001T164736Z
UID:31858-1763251200-1763337599@www.gtccwestwoodplateau.com
SUMMARY:NFL Sundays and All Day Brunch
DESCRIPTION:
URL:https://www.gtccwestwoodplateau.com/jess-events/sunday-111625/
LOCATION:Jess’ Sky\, 3251 Plateau Blvd\, Coquitlam\, BC\, V3E 3B8\, Canada
CATEGORIES:NFL
END:VEVENT
BEGIN:VEVENT
DTSTART;VALUE=DATE:20251109
DTEND;VALUE=DATE:20251110
DTSTAMP:20260419T125330
CREATED:20251001T164701Z
LAST-MODIFIED:20251001T164906Z
UID:31855-1762646400-1762732799@www.gtccwestwoodplateau.com
SUMMARY:NFL Sundays and All Day Brunch
DESCRIPTION:
URL:https://www.gtccwestwoodplateau.com/jess-events/sunday-110925/
LOCATION:Jess’ Sky\, 3251 Plateau Blvd\, Coquitlam\, BC\, V3E 3B8\, Canada
CATEGORIES:NFL
END:VEVENT
BEGIN:VEVENT
DTSTART;VALUE=DATE:20251102
DTEND;VALUE=DATE:20251103
DTSTAMP:20260419T125330
CREATED:20250919T173944Z
LAST-MODIFIED:20251001T163419Z
UID:31544-1762041600-1762127999@www.gtccwestwoodplateau.com
SUMMARY:NFL Sundays and All Day Brunch
DESCRIPTION:
URL:https://www.gtccwestwoodplateau.com/jess-events/sunday-110225/
LOCATION:Jess’ Sky\, 3251 Plateau Blvd\, Coquitlam\, BC\, V3E 3B8\, Canada
CATEGORIES:NFL
END:VEVENT
BEGIN:VEVENT
DTSTART;VALUE=DATE:20251026
DTEND;VALUE=DATE:20251027
DTSTAMP:20260419T125330
CREATED:20250919T173731Z
LAST-MODIFIED:20251001T163345Z
UID:31539-1761436800-1761523199@www.gtccwestwoodplateau.com
SUMMARY:NFL Sundays and All Day Brunch
DESCRIPTION:
URL:https://www.gtccwestwoodplateau.com/jess-events/sunday-102605/
LOCATION:Jess’ Sky\, 3251 Plateau Blvd\, Coquitlam\, BC\, V3E 3B8\, Canada
CATEGORIES:NFL
END:VEVENT
BEGIN:VEVENT
DTSTART;VALUE=DATE:20251019
DTEND;VALUE=DATE:20251020
DTSTAMP:20260419T125330
CREATED:20251001T164522Z
LAST-MODIFIED:20251001T165003Z
UID:31852-1760832000-1760918399@www.gtccwestwoodplateau.com
SUMMARY:NFL Sundays and All Day Brunch
DESCRIPTION:
URL:https://www.gtccwestwoodplateau.com/jess-events/sunday-101925/
LOCATION:Jess’ Sky\, 3251 Plateau Blvd\, Coquitlam\, BC\, V3E 3B8\, Canada
CATEGORIES:NFL
END:VEVENT
BEGIN:VEVENT
DTSTART;VALUE=DATE:20251012
DTEND;VALUE=DATE:20251013
DTSTAMP:20260419T125330
CREATED:20251001T164453Z
LAST-MODIFIED:20251001T164453Z
UID:31849-1760227200-1760313599@www.gtccwestwoodplateau.com
SUMMARY:NFL Sundays and All Day Brunch
DESCRIPTION:
URL:https://www.gtccwestwoodplateau.com/jess-events/sunday-101225/
LOCATION:BC
CATEGORIES:NFL
END:VEVENT
END:VCALENDAR