BEGIN:VCALENDAR
VERSION:2.0
PRODID:-//GreenTee Country Club Westwood Plateau - ECPv6.15.13.1//NONSGML v1.0//EN
CALSCALE:GREGORIAN
METHOD:PUBLISH
X-WR-CALNAME:GreenTee Country Club Westwood Plateau
X-ORIGINAL-URL:https://www.gtccwestwoodplateau.com
X-WR-CALDESC:Events for GreenTee Country Club Westwood Plateau
REFRESH-INTERVAL;VALUE=DURATION:PT1H
X-Robots-Tag:noindex
X-PUBLISHED-TTL:PT1H
BEGIN:VTIMEZONE
TZID:America/Vancouver
BEGIN:DAYLIGHT
TZOFFSETFROM:-0800
TZOFFSETTO:-0700
TZNAME:PDT
DTSTART:20240310T100000
END:DAYLIGHT
BEGIN:STANDARD
TZOFFSETFROM:-0700
TZOFFSETTO:-0800
TZNAME:PST
DTSTART:20241103T090000
END:STANDARD
BEGIN:DAYLIGHT
TZOFFSETFROM:-0800
TZOFFSETTO:-0700
TZNAME:PDT
DTSTART:20250309T100000
END:DAYLIGHT
BEGIN:STANDARD
TZOFFSETFROM:-0700
TZOFFSETTO:-0800
TZNAME:PST
DTSTART:20251102T090000
END:STANDARD
BEGIN:DAYLIGHT
TZOFFSETFROM:-0800
TZOFFSETTO:-0700
TZNAME:PDT
DTSTART:20260308T100000
END:DAYLIGHT
BEGIN:STANDARD
TZOFFSETFROM:-0700
TZOFFSETTO:-0800
TZNAME:PST
DTSTART:20261101T090000
END:STANDARD
END:VTIMEZONE
BEGIN:VEVENT
DTSTART;VALUE=DATE:20251102
DTEND;VALUE=DATE:20251103
DTSTAMP:20260419T222624
CREATED:20250919T173944Z
LAST-MODIFIED:20251001T163419Z
UID:31544-1762041600-1762127999@www.gtccwestwoodplateau.com
SUMMARY:NFL Sundays and All Day Brunch
DESCRIPTION:
URL:https://www.gtccwestwoodplateau.com/jess-events/sunday-110225/
LOCATION:Jess’ Sky\, 3251 Plateau Blvd\, Coquitlam\, BC\, V3E 3B8\, Canada
CATEGORIES:NFL
END:VEVENT
BEGIN:VEVENT
DTSTART;VALUE=DATE:20251109
DTEND;VALUE=DATE:20251110
DTSTAMP:20260419T222624
CREATED:20251001T164701Z
LAST-MODIFIED:20251001T164906Z
UID:31855-1762646400-1762732799@www.gtccwestwoodplateau.com
SUMMARY:NFL Sundays and All Day Brunch
DESCRIPTION:
URL:https://www.gtccwestwoodplateau.com/jess-events/sunday-110925/
LOCATION:Jess’ Sky\, 3251 Plateau Blvd\, Coquitlam\, BC\, V3E 3B8\, Canada
CATEGORIES:NFL
END:VEVENT
BEGIN:VEVENT
DTSTART;VALUE=DATE:20251116
DTEND;VALUE=DATE:20251117
DTSTAMP:20260419T222624
CREATED:20251001T164736Z
LAST-MODIFIED:20251001T164736Z
UID:31858-1763251200-1763337599@www.gtccwestwoodplateau.com
SUMMARY:NFL Sundays and All Day Brunch
DESCRIPTION:
URL:https://www.gtccwestwoodplateau.com/jess-events/sunday-111625/
LOCATION:Jess’ Sky\, 3251 Plateau Blvd\, Coquitlam\, BC\, V3E 3B8\, Canada
CATEGORIES:NFL
END:VEVENT
BEGIN:VEVENT
DTSTART;VALUE=DATE:20251123
DTEND;VALUE=DATE:20251124
DTSTAMP:20260419T222624
CREATED:20251001T164814Z
LAST-MODIFIED:20251001T165254Z
UID:31861-1763856000-1763942399@www.gtccwestwoodplateau.com
SUMMARY:NFL Sundays and All Day Brunch
DESCRIPTION:
URL:https://www.gtccwestwoodplateau.com/jess-events/sunday-112325/
LOCATION:Jess’ Sky\, 3251 Plateau Blvd\, Coquitlam\, BC\, V3E 3B8\, Canada
CATEGORIES:NFL
END:VEVENT
BEGIN:VEVENT
DTSTART;VALUE=DATE:20251130
DTEND;VALUE=DATE:20251201
DTSTAMP:20260419T222624
CREATED:20251001T165321Z
LAST-MODIFIED:20251001T165321Z
UID:31874-1764460800-1764547199@www.gtccwestwoodplateau.com
SUMMARY:NFL Sundays and All Day Brunch
DESCRIPTION:
URL:https://www.gtccwestwoodplateau.com/jess-events/sunday-113025/
LOCATION:Jess’ Sky\, 3251 Plateau Blvd\, Coquitlam\, BC\, V3E 3B8\, Canada
CATEGORIES:NFL
END:VEVENT
END:VCALENDAR