BEGIN:VCALENDAR
VERSION:2.0
PRODID:-//GreenTee Country Club Westwood Plateau - ECPv6.15.13.1//NONSGML v1.0//EN
CALSCALE:GREGORIAN
METHOD:PUBLISH
X-ORIGINAL-URL:https://www.gtccwestwoodplateau.com
X-WR-CALDESC:Events for GreenTee Country Club Westwood Plateau
REFRESH-INTERVAL;VALUE=DURATION:PT1H
X-Robots-Tag:noindex
X-PUBLISHED-TTL:PT1H
BEGIN:VTIMEZONE
TZID:America/Vancouver
BEGIN:DAYLIGHT
TZOFFSETFROM:-0800
TZOFFSETTO:-0700
TZNAME:PDT
DTSTART:20240310T100000
END:DAYLIGHT
BEGIN:STANDARD
TZOFFSETFROM:-0700
TZOFFSETTO:-0800
TZNAME:PST
DTSTART:20241103T090000
END:STANDARD
BEGIN:DAYLIGHT
TZOFFSETFROM:-0800
TZOFFSETTO:-0700
TZNAME:PDT
DTSTART:20250309T100000
END:DAYLIGHT
BEGIN:STANDARD
TZOFFSETFROM:-0700
TZOFFSETTO:-0800
TZNAME:PST
DTSTART:20251102T090000
END:STANDARD
BEGIN:DAYLIGHT
TZOFFSETFROM:-0800
TZOFFSETTO:-0700
TZNAME:PDT
DTSTART:20260308T100000
END:DAYLIGHT
BEGIN:STANDARD
TZOFFSETFROM:-0700
TZOFFSETTO:-0800
TZNAME:PST
DTSTART:20261101T090000
END:STANDARD
END:VTIMEZONE
BEGIN:VEVENT
DTSTART;TZID=America/Vancouver:20251112T180000
DTEND;TZID=America/Vancouver:20251112T200000
DTSTAMP:20260423T105037
CREATED:20250919T183949Z
LAST-MODIFIED:20250919T183949Z
UID:31610-1762970400-1762977600@www.gtccwestwoodplateau.com
SUMMARY:Live Music (Dean Michael Smith)
DESCRIPTION:
URL:https://www.gtccwestwoodplateau.com/jess-events/live-music-111225/
LOCATION:Jess’ Sky\, 3251 Plateau Blvd\, Coquitlam\, BC\, V3E 3B8\, Canada
CATEGORIES:Live Music
END:VEVENT
BEGIN:VEVENT
DTSTART;TZID=America/Vancouver:20251129T173000
DTEND;TZID=America/Vancouver:20251129T200000
DTSTAMP:20260423T105037
CREATED:20251113T002827Z
LAST-MODIFIED:20251113T002827Z
UID:32480-1764437400-1764446400@www.gtccwestwoodplateau.com
SUMMARY:Jazz Night with Maria Solena & Musical Breeze
DESCRIPTION:
URL:https://www.gtccwestwoodplateau.com/jess-events/jazz-night-with-maria-solena-musical-breeze/
LOCATION:Jess’ Sky\, 3251 Plateau Blvd\, Coquitlam\, BC\, V3E 3B8\, Canada
CATEGORIES:Live Music
END:VEVENT
END:VCALENDAR